BEGIN:VCALENDAR
VERSION:2.0
PRODID:< http://www.open2c.de/ >
METHOD:PUBLISH
X-PUBLISHED-TTL:PT12H
BEGIN:VEVENT
CREATED:20260420T061359Z
LAST-MODIFIED:20260420T061520Z
ORGANIZER;CN="Seniorenbeirat"
DTSTAMP:20260420T110839Z
DTSTART;VALUE=DATE:20260618
CATEGORIES:Senioren
SUMMARY:Senioren-Frühstück
DESCRIPTION:EINLADUNG ZUM SENIOREN-FRÜHSTÜCKWir treffen uns zum Senioren-
	Frühstück am Donnerstag\, den 18. Juni um 10:00 Uhr im Heimatmuseum\, Wein
	bergstr. 1\, 84032 Altdorf.Willkommen sind alle Senioren:innen aus Eugenbac
	h\, Pfettrach und Altdorf zu einem gemeinsamen Frühstück zum gegenseitige
	n Kennenlernen und Gedankenaustausch. Unser kulinarisches Frühstück ist 
	zwar schon reichhaltig\, aber es wäre schön\, wenn die Teilnehmer:innen wi
	eder etwas mitbringen und zur Vielfalt des Buffets beitragen würden. Zur 
	besseren Planung bitten wir um Anmeldung bei Traudl Franz unter der Tel. N
	r. 08704 1499 oder 01516 5414788. Organisator Seniorenbeirat
LOCATION:Heimatmuseum\, Weinbergstr. 1\, 84032 Altdorf
UID:67e43f7448aabc55dfb60d0d0f61b931@93588e64ab11a60e76ab9ff1133ee8be
END:VEVENT
END:VCALENDAR