BEGIN:VCALENDAR
VERSION:2.0
PRODID:< http://www.open2c.de/ >
METHOD:PUBLISH
X-PUBLISHED-TTL:PT12H
BEGIN:VEVENT
CREATED:20260420T061155Z
LAST-MODIFIED:20260420T061334Z
ORGANIZER;CN="Seniorenbeirat"
DTSTAMP:20260420T121810Z
DTSTART:20260513T150000Z
DTEND:20260513T180000Z
CATEGORIES:Senioren
SUMMARY:Mai-Tanz im Bürgersaal
DESCRIPTION:Unter dem Motto „Mai-Tanz“ wird uns Erwin Ecker wieder mit 
	Live-Musik verzaubern. Zur Einstimmung gibt es kostenlos eine Tasse Kaffee
	 und ein Stück Kuchen\, dann verwöhnen wir Sie bei günstigen Preisen mit
	 anderen Getränken\, bevor wir Wiener Würstl mit Brezen anbieten.Wir freu
	en uns auf viele Besucher ob Jung oder Alt\, ob zum Tanzen\, Zuhören o. nur
	 zum „Ratschen“ \, auch wenn Sie nicht aus Altdorf\, Eugenbach o. Pfettr
	ach kommen.Wer einen Kuchen mitbringen möchte\, meldet sich bitte bei Lies
	elotte Feimer unter der Tel. Nr. 0871 14247030. Eintritt frei. Organisator
	 Seniorenbeirat
LOCATION:Bürgersaal in Altdorf\, Dekan-Wagner-Str. 15\, 84032 Altdorf
UID:ac9f8b4ba36de7e61b1309be86b2d3d7@93588e64ab11a60e76ab9ff1133ee8be
END:VEVENT
END:VCALENDAR