BEGIN:VCALENDAR
VERSION:2.0
PRODID:< http://www.open2c.de/ >
METHOD:PUBLISH
X-PUBLISHED-TTL:PT12H
BEGIN:VEVENT
CREATED:20260112T030109Z
LAST-MODIFIED:20260112T110221Z
ORGANIZER;CN="VHS Altdorf und Lakumed"
DTSTAMP:20260422T095110Z
DTSTART;VALUE=DATE:20260422
CATEGORIES:Vorträge
SUMMARY:Kostenloser Vortrag: "Wieder wohlfühlen im erschlankten Körper: Postbariatrische Rekonstruktion"
DESCRIPTION:Eine operative Magenverkleinerung oder andere chirurgische Eing
	riffe in Kombination mit Kursen zu Ernährungsberatung und Verhaltensände
	rung führen bei stark übergewichtigen Menschen oftmals zu einem großen 
	Erfolg: Sie verlieren sehr schnell und sehr viel Gewicht. Trotzdem fühlen
	 sie sich im „neuen schlanken Körper“ nicht immer wohl: Überschüssi
	ge Haut am Bauch (Fettschürze) oder Hautlappen an Oberarmen und Oberschen
	keln\, der Brust oder am Gesäß belasten trotz erfolgreicher Gewichtsabnah
	me das Selbstwertgefühl. Auch reiben die überschüssigen Hautlappen oftm
	als aneinander und können sich entzünden oder wunde Stellen verursachen.
	 Die rekonstruktive Chirurgie bietet ehemals adipösen Menschen operative 
	Möglichkeiten\, nach erfolgreicher Gewichtsreduktion auch das ästhetische
	 Körperempfinden anzupassen. Chefarzt Dr. Patrik Hartl spricht im Vortrag
	 über die Voraussetzungen und Möglichkeiten der postbariatrischen Rekons
	truktionsmedizin. Er spricht über die operativen Körperstraffungen an Ba
	uchdecke\, Oberarmen und Oberschenkeln und die Genesungsphase.   Referent:
	 Dr. Patrik Hartl\, Chefarzt Klinik für Plastische Chirurgie und Handchiru
	rgie an der LA-Regio Klinik Landshut-Achdorf   Anmeldung bitte bei Frau W
	eidner unter Tel. 0871-30312 oder vhs@markt-altdorf.de   Organisator VHS 
	Altdorf und Lakumed
LOCATION:Bürgersaal Altdorf\, Dekan-Wagner-Str. 15\, 84032 Altdorf 
UID:2735dd1b8bf001bb8e4dfa8d3f8bc8b2@93588e64ab11a60e76ab9ff1133ee8be
END:VEVENT
END:VCALENDAR