BEGIN:VCALENDAR
VERSION:2.0
PRODID:< http://www.open2c.de/ >
METHOD:PUBLISH
X-PUBLISHED-TTL:PT12H
BEGIN:VEVENT
CREATED:20251202T100414Z
LAST-MODIFIED:20260407T071726Z
ORGANIZER;CN="Markt Altdorf"
DTSTAMP:20260423T114246Z
DTSTART;VALUE=DATE:20260609
CATEGORIES:Senioren
SUMMARY:Präventionskabarett "Ned mit mir" von Kabarettist Tom Bauer
DESCRIPTION:Freier Eintritt! Um besser planen zu können\, bitten wir sie je
	doch um vorherige Anmeldung unter Tel: 0871 30351 oder vorzimmer@markt-alt
	dorf.de Beginn der Veranstaltung um 15:00 Uhr\, Einlass ab 14:30 Uhr. Der S
	eniorenbeirat bietet Getränke zum Verkauf an.   Weitere Infos finden Sie
	 auf der Webseite des Künstlers Tom Bauer Hier ein Auszug: Organisator Ma
	rkt Altdorf
LOCATION:Bürgersaal Altdorf\, Dekan-Wagner-Str. 15\, 84032 Altdorf
UID:7f224f8d46d998a483a28360ed5ddd45@93588e64ab11a60e76ab9ff1133ee8be
END:VEVENT
END:VCALENDAR