BEGIN:VCALENDAR
VERSION:2.0
PRODID:< http://www.open2c.de/ >
METHOD:PUBLISH
X-PUBLISHED-TTL:PT12H
BEGIN:VEVENT
CREATED:20251024T070325Z
LAST-MODIFIED:20251024T070410Z
ORGANIZER;CN="Pfarrei Altdorf"
DTSTAMP:20260425T174814Z
DTSTART;VALUE=DATE:20260614
CATEGORIES:Feste und Feiern
SUMMARY:Pfarrfest
DESCRIPTION:Organisator Pfarrei Altdorf
LOCATION:Ziegeleigelände\, Rottenburger Str.
UID:037e4ebcf46478b34617070aae8299a3@93588e64ab11a60e76ab9ff1133ee8be
END:VEVENT
END:VCALENDAR