BEGIN:VCALENDAR
VERSION:2.0
PRODID:< http://www.open2c.de/ >
METHOD:PUBLISH
X-PUBLISHED-TTL:PT12H
BEGIN:VEVENT
CREATED:20251023T141630Z
LAST-MODIFIED:20251023T141707Z
ORGANIZER;CN="Pfarrei Altdorf"
DTSTAMP:20260420T022308Z
DTSTART;VALUE=DATE:20260604
CATEGORIES:Kirche
SUMMARY:Fronleichnam
DESCRIPTION:Organisator Pfarrei Altdorf
UID:5494a15100aabb6b257d9c5a999d6c9a@93588e64ab11a60e76ab9ff1133ee8be
END:VEVENT
END:VCALENDAR