BEGIN:VCALENDAR
VERSION:2.0
PRODID:< http://www.open2c.de/ >
METHOD:PUBLISH
X-PUBLISHED-TTL:PT12H
BEGIN:VEVENT
CREATED:20251023T141451Z
LAST-MODIFIED:20251023T141609Z
ORGANIZER;CN="Pfarrei Altdorf"
DTSTAMP:20260423T083954Z
DTSTART;VALUE=DATE:20260426
CATEGORIES:Kirche
SUMMARY:Erstkommunion in Altdorf
DESCRIPTION:Organisator Pfarrei Altdorf
LOCATION:Neue Nikola-Kirche
UID:59c225cc220483de9591ffb44e6cb187@93588e64ab11a60e76ab9ff1133ee8be
END:VEVENT
END:VCALENDAR