BEGIN:VCALENDAR
VERSION:2.0
PRODID:< http://www.open2c.de/ >
METHOD:PUBLISH
X-PUBLISHED-TTL:PT12H
BEGIN:VEVENT
CREATED:20251014T094506Z
LAST-MODIFIED:20251014T100013Z
ORGANIZER;CN="Heimat- und Museumsverein"
DTSTAMP:20260420T103956Z
DTSTART;VALUE=DATE:20260426
CATEGORIES:Ausstellungen
SUMMARY:1. offener Sonntag
DESCRIPTION:Organisator Heimat- und Museumsverein
LOCATION:Museum Altdorf\, Weinbergstr. 1\, 84032 Altdorf
UID:bf96f25f4e75411bfc530a6fe3c500ac@93588e64ab11a60e76ab9ff1133ee8be
END:VEVENT
END:VCALENDAR