BEGIN:VCALENDAR
VERSION:1.0
PRODID:Open2CKalenderExportV11
BEGIN:VEVENT
DTSTAMP:20260424T081817Z
DTSTART:20260603T000000Z
DTEND:20260605T000000Z
CATEGORIES:Verschiedenes
SUMMARY:Rathaus geschlossen
DESCRIPTION:Das Rathaus Altdorf ist am 3. Juni wegen des Personalausflugs und am darauffolgenden Brückentag Freitag, 5. Juni geschlossen.
LOCATION:
UID:deb9ce98c01504e66bec17ee26711c14-1bf111ab0b667d50688322e9ab0dd74c
PRIORITY:3
END:VEVENT
END:VCALENDAR
