BEGIN:VCALENDAR
VERSION:1.0
PRODID:Open2CKalenderExportV11
BEGIN:VEVENT
DTSTAMP:20260421T081754Z
DTSTART:20260710T140000Z
DTEND:20260710T220000Z
CATEGORIES:Specials
SUMMARY:JugendkulTour
DESCRIPTION: | 
LOCATION:Am Gries / Nähe Rathaus
UID:d02a2fa0ae91c64da6651a4a8c327ca7-4a2564479f526281b468477679024eaa
PRIORITY:3
END:VEVENT
END:VCALENDAR
