BEGIN:VCALENDAR
VERSION:1.0
PRODID:Open2CKalenderExportV11
BEGIN:VEVENT
DTSTAMP:20260420T061520Z
DTSTART:20260618T100000Z
DTEND:20260618T100000Z
CATEGORIES:Senioren
SUMMARY:Senioren-Frühstück
DESCRIPTION:EINLADUNG ZUM SENIOREN-FRÜHSTÜCKWir treffen uns zum Senioren-Frühstück am Donnerstag, den 18. Juni um 10:00 Uhr im Heimatmuseum, Weinbergstr. 1, 84032 Altdorf.Willkommen sind alle Senioren:innen aus Eugenbach, Pfettrach und Altdorf zu einem gemeinsamen Frühstück zum gegenseitigen Kennenlernen und Gedankenaustausch. Unser kulinarisches Frühstück ist zwar schon reichhaltig, aber es wäre schön, wenn die Teilnehmer:innen wieder etwas mit\ningen und zur Vielfalt des Buffets beitragen würden. Zur besseren Planung bitten wir um Anmeldung bei Traudl Franz unter der Tel. Nr. 08704 1499 oder 01516 5414788. | Organisator   Seniorenbeirat
LOCATION:Heimatmuseum, Weinbergstr. 1, 84032 Altdorf
UID:783177addf1104ced64573982edeac6b-51fc6492c09cb5b2b78250f5a9c68579
PRIORITY:3
END:VEVENT
END:VCALENDAR
