BEGIN:VCALENDAR
VERSION:1.0
PRODID:Open2CKalenderExportV11
BEGIN:VEVENT
DTSTAMP:20260220T083020Z
DTSTART:20260420T000000Z
DTEND:20260426T000000Z
CATEGORIES:Specials
SUMMARY:Aktionswoche "Gesundes und resilientes Altdorf"
DESCRIPTION:Bereits zum zweiten Mal lädt der Markt Altdorf zur Aktionswoche „Gesundes und resilientes Altdorf“ ein. | Vom 20. bis 26. April 2026 erwartet die Bürgerinnen und Bürger ein abwechslungsreiches Programm rund um Gesundheit, Bewegung und Wohlbefinden. | Die Aktionswoche bietet vielfältige Möglichkeiten zum Schnuppern und Mitmachen: Fachvorträge und Trainings zu gesunder Ernährung und Bewegung, Tanz- und Meditationsangebote sowie wertvolle Tipps – insbesondere auch für Eltern und Senioren – stehen auf dem Programm. Zahlreiche örtliche Vereine, Einrichtungen, Studios und engagierte Einzelpersonen beteiligen sich an der Initiative und öffnen ihre Türen, um ihr Wissen und ihre Erfahrung für ein gesundes Leben weiterzugeben.Der Markt Altdorf setzt damit ein starkes Zeichen für Gemeinschaft, Prävention und Lebensfreude. Die Aktionswoche bietet eine ideale Gelegenheit, mit Schwung ins Frühjahr zu starten und vielleicht neue, dauerhafte Interessen für sich zu entdecken. Altdorf bewegt – und hat viel zu bieten. | Alle Angebote sind grundsätzlich kostenfrei. Sofern bei einzelnen Aktionen ausdrücklich eine Kurs- oder Teilnahmegebühr genannt ist, gilt diese entsprechend. Bitte beachten Sie zudem, dass für bestimmte Veranstaltungen eine vorherige Anmeldung erforderlich ist. |   | Hier gelangen Sie zum Wochenprogramm
LOCATION:
UID:197fa4c3c66e21e7722c000ebf87a5d8-75eccc6c6ed9004c45e04d65f5b5af32
PRIORITY:3
END:VEVENT
BEGIN:VEVENT
DTSTAMP:20260112T110221Z
DTSTART:20260422T190000Z
DTEND:20260422T190000Z
CATEGORIES:Vorträge
SUMMARY:Kostenloser Vortrag: "Wieder wohlfühlen im erschlankten Körper: Postbariatrische Rekonstruktion"
DESCRIPTION:Eine operative Magenverkleinerung oder andere chirurgische Eingriffe in Kombination mit Kursen zu Ernährungsberatung und Verhaltensänderung führen bei stark übergewichtigen Menschen oftmals zu einem großen Erfolg: Sie verlieren sehr schnell und sehr viel Gewicht. Trotzdem fühlen sie sich im „neuen schlanken Körper“ nicht immer wohl: Überschüssige Haut am Bauch (Fettschürze) oder Hautlappen an Oberarmen und Oberschenkeln, der Brust oder am Gesäß belasten trotz erfolgreicher Gewichtsabnahme das Selbstwertgefühl. Auch reiben die überschüssigen Hautlappen oftmals aneinander und können sich entzünden oder wunde Stellen verursachen. Die rekonstruktive Chirurgie bietet ehemals adipösen Menschen operative Möglichkeiten, nach erfolgreicher Gewichtsreduktion auch das ästhetische Körperempfinden anzupassen. Chefarzt Dr. Patrik Hartl spricht im Vortrag über die Voraussetzungen und Möglichkeiten der postbariatrischen Rekonstruktionsmedizin. Er spricht über die operativen Körperstraffungen an Bauchdecke, Oberarmen und Oberschenkeln und die Genesungsphase. |   | Referent: Dr. Patrik Hartl, Chefarzt Klinik für Plastische Chirurgie und Handchirurgie an der LA-Regio Klinik Landshut-Achdorf |   | Anmeldung bitte bei Frau Weidner unter Tel. 0871-30312 oder vhs@markt-altdorf.de |   | Organisator   VHS Altdorf und Lakumed
LOCATION:Bürgersaal Altdorf, Dekan-Wagner-Str. 15, 84032 Altdorf 
UID:4f6b807078a48887467fb279afa9556d-2ebe0ea2f2af2574c99dc13d9c6750e0
PRIORITY:3
END:VEVENT
BEGIN:VEVENT
DTSTAMP:20260202T082100Z
DTSTART:20260424T180000Z
DTEND:20260424T180000Z
CATEGORIES:Vorträge
SUMMARY:Kostenloser Vortrag: "Nährstoffversorgung in der modernen Welt..."
DESCRIPTION: | Organisator   Altdorfer Nachbarschaftshilfe ANNA
LOCATION:VHS-Räume, Dekan-Wagner-Str. 24, 84032 Altdorf
UID:abff620486baee54d476abf41f9b0437-b5b4795ab78a59411b4eb16ed726b630
PRIORITY:3
END:VEVENT
BEGIN:VEVENT
DTSTAMP:20251023T141609Z
DTSTART:20260426T100000Z
DTEND:20260426T100000Z
CATEGORIES:Kirche
SUMMARY:Erstkommunion in Altdorf
DESCRIPTION: | Organisator   Pfarrei Altdorf
LOCATION:Neue Nikola-Kirche
UID:4ba87eb452c6e1504f446493d3988b4a-021fba1e96c2ce5e85235eebc18b9dfc
PRIORITY:3
END:VEVENT
BEGIN:VEVENT
DTSTAMP:20251014T100013Z
DTSTART:20260426T140000Z
DTEND:20260426T140000Z
CATEGORIES:Ausstellungen
SUMMARY:1. offener Sonntag
DESCRIPTION: | Organisator   Heimat- und Museumsverein
LOCATION:Museum Altdorf, Weinbergstr. 1, 84032 Altdorf
UID:20d3fdf3c347ecd3ec555bbf11b81f85-5cd58a9a43b102264640904d24250d26
PRIORITY:3
END:VEVENT
END:VCALENDAR
