BEGIN:VCALENDAR
VERSION:1.0
PRODID:Open2CKalenderExportV11
BEGIN:VEVENT
DTSTAMP:20260121T072409Z
DTSTART:20260615T000000Z
DTEND:20260626T000000Z
CATEGORIES:Verschiedenes
SUMMARY:Straßenkehrung
DESCRIPTION:Die Straßen im Marktgebiet werden mehrmals im Jahr mit der Kehrmaschine gereinigt.  | 15.06.2026 - 26.06.2026 |   | Weitere Termine:17.08.2026 - 28.08.202609.11. 2026 - 20.11. 2026 |   | Dabei wird das gesamte Straßennetz der Gemeinde gekehrt. Natürlich können nur Straßen komplett gekehrt werden, die frei von parkenden Autos etc. sind. Wir bitten Sie, vorab Gehwege vor ihrem Grundstück zu kehren und Unkraut zu entfernen. Laub und Splitt können Sie dabei auf die Straße kehren, damit dies von der Kehrmaschine mitgenommen wird. Vielen Dank für Ihre Mithilfe! | Die Kehrungen beginnen im Ortsteil Eugenbach, gefolgt von Altdorf und zuletzt Pfettrach. Genauere Terminangaben für einzelne Straßen können nicht gemacht werden, da die Arbeiten wetterabhängig sind.
LOCATION:
UID:e20be9216898de8d3af474dfecd9d53a-339a6d2438915a4bad74eda52123f222
PRIORITY:3
END:VEVENT
END:VCALENDAR
