BEGIN:VCALENDAR
VERSION:1.0
PRODID:Open2CKalenderExportV11
BEGIN:VEVENT
DTSTAMP:20260407T071726Z
DTSTART:20260609T150000Z
DTEND:20260609T150000Z
CATEGORIES:Senioren
SUMMARY:Präventionskabarett "Ned mit mir" von Kabarettist Tom Bauer
DESCRIPTION:Freier Eintritt! | Um besser planen zu können, bitten wir sie jedoch um vorherige Anmeldung unter Tel: 0871 30351 oder vorzimmer@markt-altdorf.de | Beginn der Veranstaltung um 15:00 Uhr, Einlass ab 14:30 Uhr. | Der Seniorenbeirat bietet Getränke zum Verkauf an. |   | Weitere Infos finden Sie auf der Webseite des Künstlers Tom Bauer | Hier ein Auszug: |  | Organisator   Markt Altdorf
LOCATION:Bürgersaal Altdorf, Dekan-Wagner-Str. 15, 84032 Altdorf
UID:4416a15bfb219c37dbf8137c137ad53a-aba6fa8778f030f00b89c739e99bdc6c
PRIORITY:3
END:VEVENT
END:VCALENDAR
