BEGIN:VCALENDAR
VERSION:1.0
PRODID:Open2CKalenderExportV11
BEGIN:VEVENT
DTSTAMP:20251024T070410Z
DTSTART:20260614T100000Z
DTEND:20260614T100000Z
CATEGORIES:Feste und Feiern
SUMMARY:Pfarrfest
DESCRIPTION: | Organisator   Pfarrei Altdorf
LOCATION:Ziegeleigelände, Rottenburger Str.
UID:0ce10aceeaf6d46ed026bee41d28910f-79f38a4ee35fa970394504a22c9fed27
PRIORITY:3
END:VEVENT
END:VCALENDAR
