BEGIN:VCALENDAR
VERSION:1.0
PRODID:Open2CKalenderExportV11
BEGIN:VEVENT
DTSTAMP:20251023T141707Z
DTSTART:20260604T083000Z
DTEND:20260604T083000Z
CATEGORIES:Kirche
SUMMARY:Fronleichnam
DESCRIPTION: | Organisator   Pfarrei Altdorf
LOCATION:
UID:68e0b8e792c89053bf423dabe4acef57-3110c31f5cf82d6ea4f05191091a93e5
PRIORITY:3
END:VEVENT
END:VCALENDAR
