BEGIN:VCALENDAR
VERSION:1.0
PRODID:Open2CKalenderExportV11
BEGIN:VEVENT
DTSTAMP:20251014T100013Z
DTSTART:20260426T140000Z
DTEND:20260426T140000Z
CATEGORIES:Ausstellungen
SUMMARY:1. offener Sonntag
DESCRIPTION: | Organisator   Heimat- und Museumsverein
LOCATION:Museum Altdorf, Weinbergstr. 1, 84032 Altdorf
UID:20d3fdf3c347ecd3ec555bbf11b81f85-5cd58a9a43b102264640904d24250d26
PRIORITY:3
END:VEVENT
END:VCALENDAR
