BEGIN:VCALENDAR
VERSION:1.0
PRODID:Open2CKalenderExportV11
BEGIN:VEVENT
DTSTAMP:20250326T120223Z
DTSTART:20250401T100000Z
DTEND:20250401T120000Z
CATEGORIES:Verschiedenes
SUMMARY:Einwohnermeldeamt zwischen 10 und 12 Uhr geschlossen
DESCRIPTION:
LOCATION:Rathaus Altdorf, Dekan-Wagner-Str. 13, 84032 Altdorf
UID:cc7129f681ec507b1a4e638e0ae46de3-f2c09421eaf81883384cded1831c508d
PRIORITY:3
END:VEVENT
END:VCALENDAR
